BEGIN:VCALENDAR
VERSION:2.0
PRODID:http://www.pfarrei-lebach.de
BEGIN:VEVENT
UID:7d07fc75-3c0e-11f1-a3e9-0242ac11002b-1779746400000-de
DTSTAMP:20260419T164035Z
DTSTART:20260525T220000Z
DTEND:20260526T220000Z
SUMMARY;LANGUAGE=de:Fahrt zur Springprozession in Echternach am Pfingstdienstag, 26. Mai
DESCRIPTION;LANGUAGE=de:Wir wollen auch in diesem Jahr wieder mit einer Gruppe an der Springprozession teilnehmen. Herzlich eingeladen\, an der Wallfahrt teilzunehmen\, sind auch diejenigen\, die nicht springen wollen oder können! Abfahrt: 07:00 Uhr ab Pfarrhaus Lebach – Zusteigemöglichkeiten an den Haltestellen in Neu-Bubach\, Aschbach und Thalexweiler. Rückfahrt von Echternach 16:00 Uhr. Gemeinsames Abendessen im „Jägerhof“ in Reinsfeld. Ankunft in Lebach ca 19:30 Uhr. Ab sofort kann man sich im Pfarrbüro Lebach für die Wallfahrt anmelden. Bei Anmeldung sind 30\,00 € zu bezahlen. Anmeldeschluss: Freitag\, 15. Mai 2026. Herzliche Einladung!\n
IMAGE;VALUE=URI;DISPLAY=BADGE;FMTTYPE=image/jpeg:http://www.pfarrei-lebach.de/export/sites/pfarreien/pfarrei-st.-marien-lebach/.galleries/bilder/2026-04-18T09-31-14.121214.jpg
END:VEVENT
END:VCALENDAR
